BEGIN:VCALENDAR
VERSION:2.0
PRODID:-//Germench - ECPv6.15.13.1//NONSGML v1.0//EN
CALSCALE:GREGORIAN
METHOD:PUBLISH
X-WR-CALNAME:Germench
X-ORIGINAL-URL:https://germench.de
X-WR-CALDESC:Veranstaltungen für Germench
REFRESH-INTERVAL;VALUE=DURATION:PT1H
X-Robots-Tag:noindex
X-PUBLISHED-TTL:PT1H
BEGIN:VTIMEZONE
TZID:Europe/Berlin
BEGIN:DAYLIGHT
TZOFFSETFROM:+0100
TZOFFSETTO:+0200
TZNAME:CEST
DTSTART:20240331T010000
END:DAYLIGHT
BEGIN:STANDARD
TZOFFSETFROM:+0200
TZOFFSETTO:+0100
TZNAME:CET
DTSTART:20241027T010000
END:STANDARD
BEGIN:DAYLIGHT
TZOFFSETFROM:+0100
TZOFFSETTO:+0200
TZNAME:CEST
DTSTART:20250330T010000
END:DAYLIGHT
BEGIN:STANDARD
TZOFFSETFROM:+0200
TZOFFSETTO:+0100
TZNAME:CET
DTSTART:20251026T010000
END:STANDARD
BEGIN:DAYLIGHT
TZOFFSETFROM:+0100
TZOFFSETTO:+0200
TZNAME:CEST
DTSTART:20260329T010000
END:DAYLIGHT
BEGIN:STANDARD
TZOFFSETFROM:+0200
TZOFFSETTO:+0100
TZNAME:CET
DTSTART:20261025T010000
END:STANDARD
END:VTIMEZONE
BEGIN:VEVENT
DTSTART;TZID=Europe/Berlin:20250227T180000
DTEND;TZID=Europe/Berlin:20250303T000000
DTSTAMP:20260421T185805
CREATED:20250123T171109Z
LAST-MODIFIED:20250806T154725Z
UID:5528-1740679200-1740960000@germench.de
SUMMARY:RESTREAM: Speedons
DESCRIPTION:SpeeDons ist das größte französischste Speedrun Event. Organisiert wird es vom Streamer & Musiker MisterMV und erreicht Spenden & Zuschauerzahlen\, die an GDQ ranreichen.\nGermench wird es 2025 zum 1. Mal restreamen
URL:https://germench.de/event/restream-speedons/
LOCATION:Twitch
CATEGORIES:Restream
END:VEVENT
BEGIN:VEVENT
DTSTART;TZID=Europe/Berlin:20250305T100000
DTEND;TZID=Europe/Berlin:20250309T183000
DTSTAMP:20260421T185805
CREATED:20250123T171432Z
LAST-MODIFIED:20250806T154712Z
UID:5533-1741168800-1741545000@germench.de
SUMMARY:EVENT: Frühlingsfest Marathon 2025
DESCRIPTION:Der Frühlingsfest Marathon (ehemals ZFM Online) ist ein weiterer Ableger unseres jährlichen Onsite Events ZFM.\nDer erste Teil (05-07.03) findet ausschließlich Online statt.\nDen zweiten Teil (08.03-09.03) planen wir Onsite auf dem Begegnungshof der Sonnenkinder – unserem Spendenpartner. Auch hierfür können Online Runs eingereicht werden. \nMit der gleichen Energie wie auch beim herbstlichen ZFM\, wollen wir die deutschsprachige Runner-Community eine halbe Woche zusammenbringen\, um ihre Runs zu präsentieren & Spenden für den guten Zweck zu sammeln.\nDieses Event ist vor allem für jene Runner:innen hilfreich\, welche nicht die Möglichkeit haben zu unseren Onsite Events zu reisen oder ihre ersten Erfahrungen mit Germench-Events lieber online machen möchten.\nhttps://oengus.io/marathon/FFM25
URL:https://germench.de/event/event-fruehlingsfest-marathon-2025/
LOCATION:Sonnenkinder\, Hauptstraße 42\, Zwingenberg-Rodau\, 64673\, Germany
CATEGORIES:Germench Online Event
END:VEVENT
BEGIN:VEVENT
DTSTART;TZID=Europe/Berlin:20250329T100000
DTEND;TZID=Europe/Berlin:20250330T180000
DTSTAMP:20260421T185805
CREATED:20250123T171734Z
LAST-MODIFIED:20250123T171734Z
UID:5536-1743242400-1743357600@germench.de
SUMMARY:EVENT: GGBavaria 2025
DESCRIPTION:Die GGBavaria ist eine Gaming Messe\, welche zum 3. Mal in München statt findet.\nGermench ist dieses Jahr wieder dabei und wird Speedruns am eigenen Stand präsentieren\, sowie Zuschauern die Möglichkeit geben Speedrun-Tricks zu lernen. \nAuf der Messe werden wir eure Runs präsentieren & Spenden für den guten Zweck sammeln.\nDie Messe ist vor allem für jene Runner:innen optimal\, welche in der Schweiz & Österreich\, sowie im Süden Deutschlands wohnen\, da das Event in München stattfindet. \nZu unserem Programm/Submissions: https://oengus.io/marathon/GGB25
URL:https://germench.de/event/event-ggbavaria-2025/
LOCATION:GGBavaria\, Olympiapark München\, Spiridon-Louis-Ring 21\, München\, 80809\, Germany
END:VEVENT
END:VCALENDAR