BEGIN:VCALENDAR
VERSION:2.0
PRODID:-//Germench - ECPv6.15.13.1//NONSGML v1.0//EN
CALSCALE:GREGORIAN
METHOD:PUBLISH
X-WR-CALNAME:Germench
X-ORIGINAL-URL:https://germench.de
X-WR-CALDESC:Veranstaltungen für Germench
REFRESH-INTERVAL;VALUE=DURATION:PT1H
X-Robots-Tag:noindex
X-PUBLISHED-TTL:PT1H
BEGIN:VTIMEZONE
TZID:Europe/Berlin
BEGIN:DAYLIGHT
TZOFFSETFROM:+0100
TZOFFSETTO:+0200
TZNAME:CEST
DTSTART:20240331T010000
END:DAYLIGHT
BEGIN:STANDARD
TZOFFSETFROM:+0200
TZOFFSETTO:+0100
TZNAME:CET
DTSTART:20241027T010000
END:STANDARD
BEGIN:DAYLIGHT
TZOFFSETFROM:+0100
TZOFFSETTO:+0200
TZNAME:CEST
DTSTART:20250330T010000
END:DAYLIGHT
BEGIN:STANDARD
TZOFFSETFROM:+0200
TZOFFSETTO:+0100
TZNAME:CET
DTSTART:20251026T010000
END:STANDARD
BEGIN:DAYLIGHT
TZOFFSETFROM:+0100
TZOFFSETTO:+0200
TZNAME:CEST
DTSTART:20260329T010000
END:DAYLIGHT
BEGIN:STANDARD
TZOFFSETFROM:+0200
TZOFFSETTO:+0100
TZNAME:CET
DTSTART:20261025T010000
END:STANDARD
END:VTIMEZONE
BEGIN:VEVENT
DTSTART;VALUE=DATE:20250830
DTEND;VALUE=DATE:20250902
DTSTAMP:20260421T235444
CREATED:20250824T081613Z
LAST-MODIFIED:20250824T081613Z
UID:6039-1756512000-1756771199@germench.de
SUMMARY:Externes Event: 2025 SourceRuns Marathon
DESCRIPTION:Event Webseite
URL:https://germench.de/event/externes-event-2025-sourceruns-marathon/
CATEGORIES:Externe Events
END:VEVENT
BEGIN:VEVENT
DTSTART;TZID=Europe/Berlin:20250903T200000
DTEND;TZID=Europe/Berlin:20250903T203000
DTSTAMP:20260421T235444
CREATED:20250901T161824Z
LAST-MODIFIED:20250901T161840Z
UID:6052-1756929600-1756931400@germench.de
SUMMARY:State of Play 007 First Light React mit Civ
DESCRIPTION:
URL:https://germench.de/event/state-of-play-007-first-light-react/
CATEGORIES:Reaction
END:VEVENT
BEGIN:VEVENT
DTSTART;TZID=Europe/Berlin:20250905T160000
DTEND;TZID=Europe/Berlin:20250905T235900
DTSTAMP:20260421T235444
CREATED:20250902T160922Z
LAST-MODIFIED:20250903T172359Z
UID:6055-1757088000-1757116740@germench.de
SUMMARY:CaptainVeniKose Resident Evil Session
DESCRIPTION:
URL:https://germench.de/event/captainvenikose-resident-evil-session/
CATEGORIES:Gaming Stream
END:VEVENT
BEGIN:VEVENT
DTSTART;VALUE=DATE:20250907
DTEND;VALUE=DATE:20250915
DTSTAMP:20260421T235444
CREATED:20250807T023402Z
LAST-MODIFIED:20250807T023411Z
UID:5950-1757203200-1757894399@germench.de
SUMMARY:Externes Event: SlowRunsLive - Flame Fatales
DESCRIPTION:GDQ Schedule: https://gamesdonequick.com/schedule/58
URL:https://germench.de/event/externes-event-slowrunslive-flame-fatales/
CATEGORIES:Externe Events
END:VEVENT
BEGIN:VEVENT
DTSTART;TZID=Europe/Berlin:20250909T170000
DTEND;TZID=Europe/Berlin:20250909T190000
DTSTAMP:20260421T235444
CREATED:20250907T102852Z
LAST-MODIFIED:20250908T181856Z
UID:6064-1757437200-1757444400@germench.de
SUMMARY:Blus Speedrun Power Hours
DESCRIPTION:hr wollt mehr Speedrun Content?\nIHR KRIEGT MEHR SPEEDRUN CONTENT! \nIn „Blus Speedrun Power Hours“  runnt BLUsWELT 2x  im Monat einen Speedrun & macht Live Practice.\nSei es ein Run aus seinem Repertoire oder ein Run der ihn interessiert.
URL:https://germench.de/event/blus-speedrun-power-hours-3/
CATEGORIES:Gaming Stream
END:VEVENT
BEGIN:VEVENT
DTSTART;TZID=Europe/Berlin:20250911T180000
DTEND;TZID=Europe/Berlin:20250911T200000
DTSTAMP:20260421T235444
CREATED:20250904T183059Z
LAST-MODIFIED:20250904T183059Z
UID:6059-1757613600-1757620800@germench.de
SUMMARY:Showcase Star Birds von Blu
DESCRIPTION:
URL:https://germench.de/event/showcase-star-birds-von-blu/
CATEGORIES:Spielevorstellung
END:VEVENT
BEGIN:VEVENT
DTSTART;TZID=Europe/Berlin:20250913T113000
DTEND;TZID=Europe/Berlin:20250913T235900
DTSTAMP:20260421T235444
CREATED:20250806T162117Z
LAST-MODIFIED:20250911T200609Z
UID:5941-1757763000-1757807940@germench.de
SUMMARY:EGAS - Wiederbelebung
DESCRIPTION:Es geschah an einem Samstag\nThema Wiederbelebung \n\nEgal ob das Thema in eurem Run durch Glitches (wie DeathWarp) oder eurem Spiel selber vorkommt\, solang ihr begründet warums passt\, könnt ihr es einreichen.\nAuch Wiederbelebung in Form von „nach einer langen Zeit hat das Spiel ein neuen Teil bekommen oder ein Remake“ sind hier erwünscht. \nhttps://oengus.io/marathon/EGAS-sep25
URL:https://germench.de/event/egaes/
CATEGORIES:Germench Online Event
END:VEVENT
BEGIN:VEVENT
DTSTART;VALUE=DATE:20250915
DTEND;VALUE=DATE:20250920
DTSTAMP:20260421T235444
CREATED:20250812T105221Z
LAST-MODIFIED:20250812T105221Z
UID:6019-1757894400-1758326399@germench.de
SUMMARY:PixelCon 2025
DESCRIPTION:Schedule
URL:https://germench.de/event/pixelcon-2025/
CATEGORIES:Externe Events
END:VEVENT
BEGIN:VEVENT
DTSTART;VALUE=DATE:20250917
DTEND;VALUE=DATE:20250923
DTSTAMP:20260421T235444
CREATED:20250913T104749Z
LAST-MODIFIED:20250913T104749Z
UID:6093-1758067200-1758585599@germench.de
SUMMARY:Externes Event: Completithon 2025
DESCRIPTION:Event Webseite
URL:https://germench.de/event/externes-event-completithon-2025/
CATEGORIES:Externe Events
END:VEVENT
BEGIN:VEVENT
DTSTART;VALUE=DATE:20250919
DTEND;VALUE=DATE:20250922
DTSTAMP:20260421T235444
CREATED:20250913T104939Z
LAST-MODIFIED:20250913T104939Z
UID:6095-1758240000-1758499199@germench.de
SUMMARY:Externes Event: NSG Fall 2025
DESCRIPTION:Event Webseite
URL:https://germench.de/event/externes-event-nsg-fall-2025/
CATEGORIES:Externe Events
END:VEVENT
BEGIN:VEVENT
DTSTART;VALUE=DATE:20250919
DTEND;VALUE=DATE:20250923
DTSTAMP:20260421T235444
CREATED:20250913T104314Z
LAST-MODIFIED:20250913T105212Z
UID:6087-1758240000-1758585599@germench.de
SUMMARY:Externes Event: Big Bad Game-a-thon 2025
DESCRIPTION:Event Webseite
URL:https://germench.de/event/externes-event-big-bad-game-a-thon-2025/
CATEGORIES:Externe Events
END:VEVENT
BEGIN:VEVENT
DTSTART;TZID=Europe/Berlin:20250920T180000
DTEND;TZID=Europe/Berlin:20250920T220000
DTSTAMP:20260421T235444
CREATED:20250907T103201Z
LAST-MODIFIED:20250907T103201Z
UID:6068-1758391200-1758405600@germench.de
SUMMARY:Generalkefka: Zelda ALTTP Randomizer
DESCRIPTION:Ein Zuschauer hat „Germench Mitglied zeigt Run“ eingelöst.\nAusgewählt wurde\, dass Generalkefka ALTTP Rando zeigen soll.
URL:https://germench.de/event/generalkefka-zelda-alttp-randomizer/
CATEGORIES:Goal
END:VEVENT
BEGIN:VEVENT
DTSTART;TZID=Europe/Berlin:20250924T160000
DTEND;TZID=Europe/Berlin:20250924T170000
DTSTAMP:20260421T235444
CREATED:20250924T135718Z
LAST-MODIFIED:20250924T135849Z
UID:6101-1758729600-1758733200@germench.de
SUMMARY:TGS2025 Capcom React
DESCRIPTION:
URL:https://germench.de/event/tsg2025-capcom-react/
CATEGORIES:Reaction
END:VEVENT
BEGIN:VEVENT
DTSTART;TZID=Europe/Berlin:20250924T230000
DTEND;TZID=Europe/Berlin:20250924T233000
DTSTAMP:20260421T235444
CREATED:20250924T145316Z
LAST-MODIFIED:20250924T145316Z
UID:6106-1758754800-1758756600@germench.de
SUMMARY:State of Play
DESCRIPTION:
URL:https://germench.de/event/state-of-play/
CATEGORIES:Reaction
END:VEVENT
BEGIN:VEVENT
DTSTART;VALUE=DATE:20250926
DTEND;VALUE=DATE:20250929
DTSTAMP:20260421T235444
CREATED:20250907T102637Z
LAST-MODIFIED:20250907T102637Z
UID:6062-1758844800-1759103999@germench.de
SUMMARY:Restream: Nitro Speedrun Festival
DESCRIPTION:Mainstream:  \nhttps://www.twitch.tv/nitro_speedrun \n Schedule: https://oengus.io/marathon/NSF2025/schedule/nsf25\nRestream Planung:  \nhttps://docs.google.com/spreadsheets/d/1gJHjKxlOcBMUwGOiwZNrXl5_ZsepHU-wIZeV8s5pd6w/edit?gid=0#gid=0
URL:https://germench.de/event/restream-nitro-speedrun-festival/
CATEGORIES:Restream
END:VEVENT
BEGIN:VEVENT
DTSTART;VALUE=DATE:20250926
DTEND;VALUE=DATE:20250929
DTSTAMP:20260421T235444
CREATED:20250913T104428Z
LAST-MODIFIED:20250913T104428Z
UID:6089-1758844800-1759103999@germench.de
SUMMARY:Externes Event: SHMUPTEMBER 2025
DESCRIPTION:Event Webseite
URL:https://germench.de/event/externes-event-shmuptember-2025/
CATEGORIES:Externe Events
END:VEVENT
BEGIN:VEVENT
DTSTART;VALUE=DATE:20250926
DTEND;VALUE=DATE:20250929
DTSTAMP:20260421T235444
CREATED:20250913T105031Z
LAST-MODIFIED:20250913T105031Z
UID:6097-1758844800-1759103999@germench.de
SUMMARY:Externes Event: Potterthon 11
DESCRIPTION:Event Webseite
URL:https://germench.de/event/externes-event-potterthon-11/
CATEGORIES:Externe Events
END:VEVENT
BEGIN:VEVENT
DTSTART;VALUE=DATE:20250926
DTEND;VALUE=DATE:20250929
DTSTAMP:20260421T235444
CREATED:20250924T161537Z
LAST-MODIFIED:20250924T161537Z
UID:6108-1758844800-1759103999@germench.de
SUMMARY:Externes Event: Fast52
DESCRIPTION:https://fast.ludwig.gg/
URL:https://germench.de/event/externes-event-fast52/
CATEGORIES:Externe Events
END:VEVENT
BEGIN:VEVENT
DTSTART;VALUE=DATE:20250927
DTEND;VALUE=DATE:20250929
DTSTAMP:20260421T235444
CREATED:20250913T104648Z
LAST-MODIFIED:20250913T104648Z
UID:6091-1758931200-1759103999@germench.de
SUMMARY:Externes Event: UKSG Blue 2025
DESCRIPTION:Event Webseite
URL:https://germench.de/event/externes-event-uksg-blue-2025/
CATEGORIES:Externe Events
END:VEVENT
END:VCALENDAR